BEGIN:VCALENDAR
VERSION:2.0
PRODID:icalendar-ruby
CALSCALE:GREGORIAN
METHOD:PUBLISH
BEGIN:VEVENT
DTSTAMP:20260422T191839Z
UID:10-502724@knoxvilleunited.tithelysetup2.com
DTSTART:20260924T000000Z
DTEND:20260924T010000Z
CLASS:PUBLIC
CREATED:20260422T134009
DESCRIPTION:
LAST-MODIFIED:20260422T134009
LOCATION:
SUMMARY:Chancel Choir Practice
URL;VALUE=URI:https://www.knoxvilleumc.org/events/chancel-choir-practice/20
 26-09-23
END:VEVENT
END:VCALENDAR
