BEGIN:VCALENDAR
VERSION:2.0
PRODID:icalendar-ruby
CALSCALE:GREGORIAN
METHOD:PUBLISH
BEGIN:VEVENT
DTSTAMP:20260422T230111Z
UID:10-503295@knoxvilleunited.tithelysetup2.com
DTSTART:20261015T000000Z
DTEND:20261015T010000Z
CLASS:PUBLIC
CREATED:20260422T163543
DESCRIPTION:
LAST-MODIFIED:20260422T163543
LOCATION:
SUMMARY:Chancel Choir Practice
URL;VALUE=URI:https://www.knoxvilleumc.org/events/chancel-choir-practice/20
 26-10-14
END:VEVENT
END:VCALENDAR
