BEGIN:VCALENDAR
VERSION:2.0
PRODID:icalendar-ruby
CALSCALE:GREGORIAN
METHOD:PUBLISH
BEGIN:VEVENT
DTSTAMP:20260423T014122Z
UID:10-503865@knoxvilleunited.tithelysetup2.com
DTSTART:20261029T000000Z
DTEND:20261029T010000Z
CLASS:PUBLIC
CREATED:20260422T192700
DESCRIPTION:
LAST-MODIFIED:20260422T192700
LOCATION:
SUMMARY:Chancel Choir Practice
URL;VALUE=URI:https://www.knoxvilleumc.org/events/chancel-choir-practice/20
 26-10-28
END:VEVENT
END:VCALENDAR
