BEGIN:VCALENDAR
VERSION:2.0
PRODID:icalendar-ruby
CALSCALE:GREGORIAN
METHOD:PUBLISH
BEGIN:VEVENT
DTSTAMP:20260421T124903Z
UID:140-343093@knoxvilleunited.tithelysetup2.com
DTSTART;VALUE=DATE:20260614
DTEND;VALUE=DATE:20260614
CLASS:PUBLIC
CREATED:20260304T105911
DESCRIPTION:
LAST-MODIFIED:20260304T105911
LOCATION:
SUMMARY:Flag Day
URL;VALUE=URI:https://www.knoxvilleumc.org/events/flag-day/2026-06-14
END:VEVENT
END:VCALENDAR
