BEGIN:VCALENDAR
VERSION:2.0
PRODID:icalendar-ruby
CALSCALE:GREGORIAN
METHOD:PUBLISH
BEGIN:VEVENT
DTSTAMP:20260421T153354Z
UID:156-499085@knoxvilleunited.tithelysetup2.com
DTSTART:20260917T140000Z
DTEND:20260917T160000Z
CLASS:PUBLIC
CREATED:20260421T100832
DESCRIPTION:
LAST-MODIFIED:20260421T100832
LOCATION:
SUMMARY:Food Pantry
URL;VALUE=URI:https://www.knoxvilleumc.org/events/food-pantry--156/2026-09-
 17
END:VEVENT
END:VCALENDAR
