BEGIN:VCALENDAR
VERSION:2.0
PRODID:icalendar-ruby
CALSCALE:GREGORIAN
METHOD:PUBLISH
BEGIN:VEVENT
DTSTAMP:20260421T182936Z
UID:156-499654@knoxvilleunited.tithelysetup2.com
DTSTART:20261001T140000Z
DTEND:20261001T160000Z
CLASS:PUBLIC
CREATED:20260421T124844
DESCRIPTION:
LAST-MODIFIED:20260421T124844
LOCATION:
SUMMARY:Food Pantry
URL;VALUE=URI:https://www.knoxvilleumc.org/events/food-pantry--156/2026-10-
 01
END:VEVENT
END:VCALENDAR
