BEGIN:VCALENDAR
VERSION:2.0
PRODID:icalendar-ruby
CALSCALE:GREGORIAN
METHOD:PUBLISH
BEGIN:VEVENT
DTSTAMP:20260421T212143Z
UID:156-500223@knoxvilleunited.tithelysetup2.com
DTSTART:20261015T140000Z
DTEND:20261015T160000Z
CLASS:PUBLIC
CREATED:20260421T152428
DESCRIPTION:
LAST-MODIFIED:20260421T152428
LOCATION:
SUMMARY:Food Pantry
URL;VALUE=URI:https://www.knoxvilleumc.org/events/food-pantry--156/2026-10-
 15
END:VEVENT
END:VCALENDAR
