BEGIN:VCALENDAR
VERSION:2.0
PRODID:icalendar-ruby
CALSCALE:GREGORIAN
METHOD:PUBLISH
BEGIN:VEVENT
DTSTAMP:20260421T224741Z
UID:156-500224@knoxvilleunited.tithelysetup2.com
DTSTART:20261022T140000Z
DTEND:20261022T160000Z
CLASS:PUBLIC
CREATED:20260421T152428
DESCRIPTION:
LAST-MODIFIED:20260421T152428
LOCATION:
SUMMARY:Food Pantry
URL;VALUE=URI:https://www.knoxvilleumc.org/events/food-pantry--156/2026-10-
 22
END:VEVENT
END:VCALENDAR
