BEGIN:VCALENDAR
VERSION:2.0
PRODID:icalendar-ruby
CALSCALE:GREGORIAN
METHOD:PUBLISH
BEGIN:VEVENT
DTSTAMP:20260422T001759Z
UID:156-500793@knoxvilleunited.tithelysetup2.com
DTSTART:20261029T140000Z
DTEND:20261029T160000Z
CLASS:PUBLIC
CREATED:20260421T180308
DESCRIPTION:
LAST-MODIFIED:20260421T180308
LOCATION:
SUMMARY:Food Pantry
URL;VALUE=URI:https://www.knoxvilleumc.org/events/food-pantry--156/2026-10-
 29
END:VEVENT
END:VCALENDAR
