BEGIN:VCALENDAR
VERSION:2.0
PRODID:icalendar-ruby
CALSCALE:GREGORIAN
METHOD:PUBLISH
BEGIN:VEVENT
DTSTAMP:20260422T085651Z
UID:156-501367@knoxvilleunited.tithelysetup2.com
DTSTART:20261210T150000Z
DTEND:20261210T170000Z
CLASS:PUBLIC
CREATED:20260421T204126
DESCRIPTION:
LAST-MODIFIED:20260421T204126
LOCATION:
SUMMARY:Food Pantry
URL;VALUE=URI:https://www.knoxvilleumc.org/events/food-pantry--156/2026-12-
 10
END:VEVENT
END:VCALENDAR
