BEGIN:VCALENDAR
VERSION:2.0
PRODID:icalendar-ruby
CALSCALE:GREGORIAN
METHOD:PUBLISH
BEGIN:VEVENT
DTSTAMP:20260422T101148Z
UID:156-501368@knoxvilleunited.tithelysetup2.com
DTSTART:20261217T150000Z
DTEND:20261217T170000Z
CLASS:PUBLIC
CREATED:20260421T204126
DESCRIPTION:
LAST-MODIFIED:20260421T204126
LOCATION:
SUMMARY:Food Pantry
URL;VALUE=URI:https://www.knoxvilleumc.org/events/food-pantry--156/2026-12-
 17
END:VEVENT
END:VCALENDAR
