BEGIN:VCALENDAR
VERSION:2.0
PRODID:icalendar-ruby
CALSCALE:GREGORIAN
METHOD:PUBLISH
BEGIN:VEVENT
DTSTAMP:20260422T141804Z
UID:156-501939@knoxvilleunited.tithelysetup2.com
DTSTART:20270107T150000Z
DTEND:20270107T170000Z
CLASS:PUBLIC
CREATED:20260422T075024
DESCRIPTION:
LAST-MODIFIED:20260422T075024
LOCATION:
SUMMARY:Food Pantry
URL;VALUE=URI:https://www.knoxvilleumc.org/events/food-pantry--156/2027-01-
 07
END:VEVENT
END:VCALENDAR
