BEGIN:VCALENDAR
VERSION:2.0
PRODID:icalendar-ruby
CALSCALE:GREGORIAN
METHOD:PUBLISH
BEGIN:VEVENT
DTSTAMP:20260422T165622Z
UID:156-502509@knoxvilleunited.tithelysetup2.com
DTSTART:20270121T150000Z
DTEND:20270121T170000Z
CLASS:PUBLIC
CREATED:20260422T104541
DESCRIPTION:
LAST-MODIFIED:20260422T104541
LOCATION:
SUMMARY:Food Pantry
URL;VALUE=URI:https://www.knoxvilleumc.org/events/food-pantry--156/2027-01-
 21
END:VEVENT
END:VCALENDAR
