BEGIN:VCALENDAR
VERSION:2.0
PRODID:icalendar-ruby
CALSCALE:GREGORIAN
METHOD:PUBLISH
BEGIN:VEVENT
DTSTAMP:20260422T205133Z
UID:156-503080@knoxvilleunited.tithelysetup2.com
DTSTART:20270211T150000Z
DTEND:20270211T170000Z
CLASS:PUBLIC
CREATED:20260422T134009
DESCRIPTION:
LAST-MODIFIED:20260422T134009
LOCATION:
SUMMARY:Food Pantry
URL;VALUE=URI:https://www.knoxvilleumc.org/events/food-pantry--156/2027-02-
 11
END:VEVENT
END:VCALENDAR
