BEGIN:VCALENDAR
VERSION:2.0
PRODID:icalendar-ruby
CALSCALE:GREGORIAN
METHOD:PUBLISH
BEGIN:VEVENT
DTSTAMP:20260422T220602Z
UID:156-503649@knoxvilleunited.tithelysetup2.com
DTSTART:20270218T150000Z
DTEND:20270218T170000Z
CLASS:PUBLIC
CREATED:20260422T163544
DESCRIPTION:
LAST-MODIFIED:20260422T163544
LOCATION:
SUMMARY:Food Pantry
URL;VALUE=URI:https://www.knoxvilleumc.org/events/food-pantry--156/2027-02-
 18
END:VEVENT
END:VCALENDAR
