BEGIN:VCALENDAR
VERSION:2.0
PRODID:icalendar-ruby
CALSCALE:GREGORIAN
METHOD:PUBLISH
BEGIN:VEVENT
DTSTAMP:20260422T231759Z
UID:156-503650@knoxvilleunited.tithelysetup2.com
DTSTART:20270225T150000Z
DTEND:20270225T170000Z
CLASS:PUBLIC
CREATED:20260422T163544
DESCRIPTION:
LAST-MODIFIED:20260422T163544
LOCATION:
SUMMARY:Food Pantry
URL;VALUE=URI:https://www.knoxvilleumc.org/events/food-pantry--156/2027-02-
 25
END:VEVENT
END:VCALENDAR
