BEGIN:VCALENDAR
VERSION:2.0
PRODID:icalendar-ruby
CALSCALE:GREGORIAN
METHOD:PUBLISH
BEGIN:VEVENT
DTSTAMP:20260423T021243Z
UID:156-504222@knoxvilleunited.tithelysetup2.com
DTSTART:20270311T150000Z
DTEND:20270311T170000Z
CLASS:PUBLIC
CREATED:20260422T192700
DESCRIPTION:
LAST-MODIFIED:20260422T192700
LOCATION:
SUMMARY:Food Pantry
URL;VALUE=URI:https://www.knoxvilleumc.org/events/food-pantry--156/2027-03-
 11
END:VEVENT
END:VCALENDAR
