BEGIN:VCALENDAR
VERSION:2.0
PRODID:icalendar-ruby
CALSCALE:GREGORIAN
METHOD:PUBLISH
BEGIN:VEVENT
DTSTAMP:20260423T074702Z
UID:156-504794@knoxvilleunited.tithelysetup2.com
DTSTART:20270318T140000Z
DTEND:20270318T160000Z
CLASS:PUBLIC
CREATED:20260422T222135
DESCRIPTION:
LAST-MODIFIED:20260422T222135
LOCATION:
SUMMARY:Food Pantry
URL;VALUE=URI:https://www.knoxvilleumc.org/events/food-pantry--156/2027-03-
 18
END:VEVENT
END:VCALENDAR
