BEGIN:VCALENDAR
VERSION:2.0
PRODID:icalendar-ruby
CALSCALE:GREGORIAN
METHOD:PUBLISH
BEGIN:VEVENT
DTSTAMP:20260421T211856Z
UID:155-500193@knoxvilleunited.tithelysetup2.com
DTSTART:20260929T190000Z
DTEND:20260929T210000Z
CLASS:PUBLIC
CREATED:20260421T152428
DESCRIPTION:
LAST-MODIFIED:20260421T152428
LOCATION:
SUMMARY:Food Pantry
URL;VALUE=URI:https://www.knoxvilleumc.org/events/food-pantry/2026-09-29
END:VEVENT
END:VCALENDAR
