BEGIN:VCALENDAR
VERSION:2.0
PRODID:icalendar-ruby
CALSCALE:GREGORIAN
METHOD:PUBLISH
BEGIN:VEVENT
DTSTAMP:20260422T001649Z
UID:155-500763@knoxvilleunited.tithelysetup2.com
DTSTART:20261013T190000Z
DTEND:20261013T210000Z
CLASS:PUBLIC
CREATED:20260421T180308
DESCRIPTION:
LAST-MODIFIED:20260421T180308
LOCATION:
SUMMARY:Food Pantry
URL;VALUE=URI:https://www.knoxvilleumc.org/events/food-pantry/2026-10-13
END:VEVENT
END:VCALENDAR
