BEGIN:VCALENDAR
VERSION:2.0
PRODID:icalendar-ruby
CALSCALE:GREGORIAN
METHOD:PUBLISH
BEGIN:VEVENT
DTSTAMP:20260422T020637Z
UID:155-501332@knoxvilleunited.tithelysetup2.com
DTSTART:20261020T190000Z
DTEND:20261020T210000Z
CLASS:PUBLIC
CREATED:20260421T204126
DESCRIPTION:
LAST-MODIFIED:20260421T204126
LOCATION:
SUMMARY:Food Pantry
URL;VALUE=URI:https://www.knoxvilleumc.org/events/food-pantry/2026-10-20
END:VEVENT
END:VCALENDAR
