BEGIN:VCALENDAR
VERSION:2.0
PRODID:icalendar-ruby
CALSCALE:GREGORIAN
METHOD:PUBLISH
BEGIN:VEVENT
DTSTAMP:20260422T063050Z
UID:155-501335@knoxvilleunited.tithelysetup2.com
DTSTART:20261110T200000Z
DTEND:20261110T220000Z
CLASS:PUBLIC
CREATED:20260421T204126
DESCRIPTION:
LAST-MODIFIED:20260421T204126
LOCATION:
SUMMARY:Food Pantry
URL;VALUE=URI:https://www.knoxvilleumc.org/events/food-pantry/2026-11-10
END:VEVENT
END:VCALENDAR
