BEGIN:VCALENDAR
VERSION:2.0
PRODID:icalendar-ruby
CALSCALE:GREGORIAN
METHOD:PUBLISH
BEGIN:VEVENT
DTSTAMP:20260422T164522Z
UID:155-502478@knoxvilleunited.tithelysetup2.com
DTSTART:20261229T200000Z
DTEND:20261229T220000Z
CLASS:PUBLIC
CREATED:20260422T104541
DESCRIPTION:
LAST-MODIFIED:20260422T104541
LOCATION:
SUMMARY:Food Pantry
URL;VALUE=URI:https://www.knoxvilleumc.org/events/food-pantry/2026-12-29
END:VEVENT
END:VCALENDAR
