BEGIN:VCALENDAR
VERSION:2.0
PRODID:icalendar-ruby
CALSCALE:GREGORIAN
METHOD:PUBLISH
BEGIN:VEVENT
DTSTAMP:20260422T180319Z
UID:155-502479@knoxvilleunited.tithelysetup2.com
DTSTART:20270105T200000Z
DTEND:20270105T220000Z
CLASS:PUBLIC
CREATED:20260422T104541
DESCRIPTION:
LAST-MODIFIED:20260422T104541
LOCATION:
SUMMARY:Food Pantry
URL;VALUE=URI:https://www.knoxvilleumc.org/events/food-pantry/2027-01-05
END:VEVENT
END:VCALENDAR
