BEGIN:VCALENDAR
VERSION:2.0
PRODID:icalendar-ruby
CALSCALE:GREGORIAN
METHOD:PUBLISH
BEGIN:VEVENT
DTSTAMP:20260422T205123Z
UID:155-503049@knoxvilleunited.tithelysetup2.com
DTSTART:20270119T200000Z
DTEND:20270119T220000Z
CLASS:PUBLIC
CREATED:20260422T134009
DESCRIPTION:
LAST-MODIFIED:20260422T134009
LOCATION:
SUMMARY:Food Pantry
URL;VALUE=URI:https://www.knoxvilleumc.org/events/food-pantry/2027-01-19
END:VEVENT
END:VCALENDAR
