BEGIN:VCALENDAR
VERSION:2.0
PRODID:icalendar-ruby
CALSCALE:GREGORIAN
METHOD:PUBLISH
BEGIN:VEVENT
DTSTAMP:20260422T220440Z
UID:155-503618@knoxvilleunited.tithelysetup2.com
DTSTART:20270126T200000Z
DTEND:20270126T220000Z
CLASS:PUBLIC
CREATED:20260422T163544
DESCRIPTION:
LAST-MODIFIED:20260422T163544
LOCATION:
SUMMARY:Food Pantry
URL;VALUE=URI:https://www.knoxvilleumc.org/events/food-pantry/2027-01-26
END:VEVENT
END:VCALENDAR
