BEGIN:VCALENDAR
VERSION:2.0
PRODID:icalendar-ruby
CALSCALE:GREGORIAN
METHOD:PUBLISH
BEGIN:VEVENT
DTSTAMP:20260423T022324Z
UID:155-504191@knoxvilleunited.tithelysetup2.com
DTSTART:20270216T200000Z
DTEND:20270216T220000Z
CLASS:PUBLIC
CREATED:20260422T192700
DESCRIPTION:
LAST-MODIFIED:20260422T192700
LOCATION:
SUMMARY:Food Pantry
URL;VALUE=URI:https://www.knoxvilleumc.org/events/food-pantry/2027-02-16
END:VEVENT
END:VCALENDAR
