BEGIN:VCALENDAR
VERSION:2.0
PRODID:icalendar-ruby
CALSCALE:GREGORIAN
METHOD:PUBLISH
BEGIN:VEVENT
DTSTAMP:20260423T035409Z
UID:155-504763@knoxvilleunited.tithelysetup2.com
DTSTART:20270223T200000Z
DTEND:20270223T220000Z
CLASS:PUBLIC
CREATED:20260422T222135
DESCRIPTION:
LAST-MODIFIED:20260422T222135
LOCATION:
SUMMARY:Food Pantry
URL;VALUE=URI:https://www.knoxvilleumc.org/events/food-pantry/2027-02-23
END:VEVENT
END:VCALENDAR
