BEGIN:VCALENDAR
VERSION:2.0
PRODID:icalendar-ruby
CALSCALE:GREGORIAN
METHOD:PUBLISH
BEGIN:VEVENT
DTSTAMP:20260423T074406Z
UID:155-504766@knoxvilleunited.tithelysetup2.com
DTSTART:20270316T190000Z
DTEND:20270316T210000Z
CLASS:PUBLIC
CREATED:20260422T222135
DESCRIPTION:
LAST-MODIFIED:20260422T222135
LOCATION:
SUMMARY:Food Pantry
URL;VALUE=URI:https://www.knoxvilleumc.org/events/food-pantry/2027-03-16
END:VEVENT
END:VCALENDAR
