BEGIN:VCALENDAR
VERSION:2.0
PRODID:icalendar-ruby
CALSCALE:GREGORIAN
METHOD:PUBLISH
BEGIN:VEVENT
DTSTAMP:20260423T085157Z
UID:155-504767@knoxvilleunited.tithelysetup2.com
DTSTART:20270323T190000Z
DTEND:20270323T210000Z
CLASS:PUBLIC
CREATED:20260422T222135
DESCRIPTION:
LAST-MODIFIED:20260422T222135
LOCATION:
SUMMARY:Food Pantry
URL;VALUE=URI:https://www.knoxvilleumc.org/events/food-pantry/2027-03-23
END:VEVENT
END:VCALENDAR
