BEGIN:VCALENDAR
VERSION:2.0
PRODID:icalendar-ruby
CALSCALE:GREGORIAN
METHOD:PUBLISH
BEGIN:VEVENT
DTSTAMP:20260421T112312Z
UID:166-448337@knoxvilleunited.tithelysetup2.com
DTSTART:20260427T220000Z
DTEND:20260427T230000Z
CLASS:PUBLIC
CREATED:20260406T112114
DESCRIPTION:
LAST-MODIFIED:20260406T112114
LOCATION:
SUMMARY:Girl Scouts
URL;VALUE=URI:https://www.knoxvilleumc.org/events/girl-scouts--166/2026-04-
 27
END:VEVENT
END:VCALENDAR
