BEGIN:VCALENDAR
VERSION:2.0
PRODID:icalendar-ruby
CALSCALE:GREGORIAN
METHOD:PUBLISH
BEGIN:VEVENT
DTSTAMP:20260421T151941Z
UID:141-343094@knoxvilleunited.tithelysetup2.com
DTSTART;VALUE=DATE:20261031
DTEND;VALUE=DATE:20261031
CLASS:PUBLIC
CREATED:20260304T110205
DESCRIPTION:
LAST-MODIFIED:20260304T110205
LOCATION:
SUMMARY:Halloween
URL;VALUE=URI:https://www.knoxvilleumc.org/events/halloween/2026-10-31
END:VEVENT
END:VCALENDAR
