BEGIN:VCALENDAR
VERSION:2.0
PRODID:icalendar-ruby
CALSCALE:GREGORIAN
METHOD:PUBLISH
BEGIN:VEVENT
DTSTAMP:20260421T165942Z
UID:143-498838@knoxvilleunited.tithelysetup2.com
DTSTART:20260927T150000Z
DTEND:20260927T160000Z
CLASS:PUBLIC
CREATED:20260421T100832
DESCRIPTION:
LAST-MODIFIED:20260421T100832
LOCATION:
SUMMARY:High School Sunday School
URL;VALUE=URI:https://www.knoxvilleumc.org/events/high-school-sunday-school
 --143/2026-09-27
END:VEVENT
END:VCALENDAR
