BEGIN:VCALENDAR
VERSION:2.0
PRODID:icalendar-ruby
CALSCALE:GREGORIAN
METHOD:PUBLISH
BEGIN:VEVENT
DTSTAMP:20260422T001057Z
UID:143-500544@knoxvilleunited.tithelysetup2.com
DTSTART:20261101T160000Z
DTEND:20261101T170000Z
CLASS:PUBLIC
CREATED:20260421T180307
DESCRIPTION:
LAST-MODIFIED:20260421T180307
LOCATION:
SUMMARY:High School Sunday School
URL;VALUE=URI:https://www.knoxvilleumc.org/events/high-school-sunday-school
 --143/2026-11-01
END:VEVENT
END:VCALENDAR
