BEGIN:VCALENDAR
VERSION:2.0
PRODID:icalendar-ruby
CALSCALE:GREGORIAN
METHOD:PUBLISH
BEGIN:VEVENT
DTSTAMP:20260422T031354Z
UID:143-501114@knoxvilleunited.tithelysetup2.com
DTSTART:20261115T160000Z
DTEND:20261115T170000Z
CLASS:PUBLIC
CREATED:20260421T204125
DESCRIPTION:
LAST-MODIFIED:20260421T204125
LOCATION:
SUMMARY:High School Sunday School
URL;VALUE=URI:https://www.knoxvilleumc.org/events/high-school-sunday-school
 --143/2026-11-15
END:VEVENT
END:VCALENDAR
