BEGIN:VCALENDAR
VERSION:2.0
PRODID:icalendar-ruby
CALSCALE:GREGORIAN
METHOD:PUBLISH
BEGIN:VEVENT
DTSTAMP:20260422T131621Z
UID:143-501689@knoxvilleunited.tithelysetup2.com
DTSTART:20270103T160000Z
DTEND:20270103T170000Z
CLASS:PUBLIC
CREATED:20260422T075023
DESCRIPTION:
LAST-MODIFIED:20260422T075023
LOCATION:
SUMMARY:High School Sunday School
URL;VALUE=URI:https://www.knoxvilleumc.org/events/high-school-sunday-school
 --143/2027-01-03
END:VEVENT
END:VCALENDAR
