BEGIN:VCALENDAR
VERSION:2.0
PRODID:icalendar-ruby
CALSCALE:GREGORIAN
METHOD:PUBLISH
BEGIN:VEVENT
DTSTAMP:20260422T144321Z
UID:143-501690@knoxvilleunited.tithelysetup2.com
DTSTART:20270110T160000Z
DTEND:20270110T170000Z
CLASS:PUBLIC
CREATED:20260422T075023
DESCRIPTION:
LAST-MODIFIED:20260422T075023
LOCATION:
SUMMARY:High School Sunday School
URL;VALUE=URI:https://www.knoxvilleumc.org/events/high-school-sunday-school
 --143/2027-01-10
END:VEVENT
END:VCALENDAR
