BEGIN:VCALENDAR
VERSION:2.0
PRODID:icalendar-ruby
CALSCALE:GREGORIAN
METHOD:PUBLISH
BEGIN:VEVENT
DTSTAMP:20260422T172945Z
UID:143-502260@knoxvilleunited.tithelysetup2.com
DTSTART:20270124T160000Z
DTEND:20270124T170000Z
CLASS:PUBLIC
CREATED:20260422T104540
DESCRIPTION:
LAST-MODIFIED:20260422T104540
LOCATION:
SUMMARY:High School Sunday School
URL;VALUE=URI:https://www.knoxvilleumc.org/events/high-school-sunday-school
 --143/2027-01-24
END:VEVENT
END:VCALENDAR
