BEGIN:VCALENDAR
VERSION:2.0
PRODID:icalendar-ruby
CALSCALE:GREGORIAN
METHOD:PUBLISH
BEGIN:VEVENT
DTSTAMP:20260422T214203Z
UID:143-503399@knoxvilleunited.tithelysetup2.com
DTSTART:20270214T160000Z
DTEND:20270214T170000Z
CLASS:PUBLIC
CREATED:20260422T163543
DESCRIPTION:
LAST-MODIFIED:20260422T163543
LOCATION:
SUMMARY:High School Sunday School
URL;VALUE=URI:https://www.knoxvilleumc.org/events/high-school-sunday-school
 --143/2027-02-14
END:VEVENT
END:VCALENDAR
