BEGIN:VCALENDAR
VERSION:2.0
PRODID:icalendar-ruby
CALSCALE:GREGORIAN
METHOD:PUBLISH
BEGIN:VEVENT
DTSTAMP:20260422T225501Z
UID:143-503400@knoxvilleunited.tithelysetup2.com
DTSTART:20270221T160000Z
DTEND:20270221T170000Z
CLASS:PUBLIC
CREATED:20260422T163543
DESCRIPTION:
LAST-MODIFIED:20260422T163543
LOCATION:
SUMMARY:High School Sunday School
URL;VALUE=URI:https://www.knoxvilleumc.org/events/high-school-sunday-school
 --143/2027-02-21
END:VEVENT
END:VCALENDAR
