BEGIN:VCALENDAR
VERSION:2.0
PRODID:icalendar-ruby
CALSCALE:GREGORIAN
METHOD:PUBLISH
BEGIN:VEVENT
DTSTAMP:20260422T221359Z
UID:7-503196@knoxvilleunited.tithelysetup2.com
DTSTART:20261011T150000Z
DTEND:20261011T160000Z
CLASS:PUBLIC
CREATED:20260422T163543
DESCRIPTION:
LAST-MODIFIED:20260422T163543
LOCATION:303 S. Broad St\, Knoxville\, IL
SUMMARY:High School Sunday School
URL;VALUE=URI:https://www.knoxvilleumc.org/events/high-school-sunday-school
 /2026-10-11
END:VEVENT
END:VCALENDAR
