BEGIN:VCALENDAR
VERSION:2.0
PRODID:icalendar-ruby
CALSCALE:GREGORIAN
METHOD:PUBLISH
BEGIN:VEVENT
DTSTAMP:20260423T005705Z
UID:7-503766@knoxvilleunited.tithelysetup2.com
DTSTART:20261025T150000Z
DTEND:20261025T160000Z
CLASS:PUBLIC
CREATED:20260422T192659
DESCRIPTION:
LAST-MODIFIED:20260422T192659
LOCATION:303 S. Broad St\, Knoxville\, IL
SUMMARY:High School Sunday School
URL;VALUE=URI:https://www.knoxvilleumc.org/events/high-school-sunday-school
 /2026-10-25
END:VEVENT
END:VCALENDAR
