BEGIN:VCALENDAR
VERSION:2.0
PRODID:icalendar-ruby
CALSCALE:GREGORIAN
METHOD:PUBLISH
BEGIN:VEVENT
DTSTAMP:20260421T140833Z
UID:142-343095@knoxvilleunited.tithelysetup2.com
DTSTART;VALUE=DATE:20261108
DTEND;VALUE=DATE:20261108
CLASS:PUBLIC
CREATED:20260304T110321
DESCRIPTION:
LAST-MODIFIED:20260304T110321
LOCATION:
SUMMARY:Honor our Veterans
URL;VALUE=URI:https://www.knoxvilleumc.org/events/honor-our-veterans/2026-1
 1-08
END:VEVENT
END:VCALENDAR
