BEGIN:VCALENDAR
VERSION:2.0
PRODID:icalendar-ruby
CALSCALE:GREGORIAN
METHOD:PUBLISH
BEGIN:VEVENT
DTSTAMP:20260421T112342Z
UID:167-472148@knoxvilleunited.tithelysetup2.com
DTSTART;VALUE=DATE:20260423
DTEND;VALUE=DATE:20260424
CLASS:PUBLIC
CREATED:20260413T112338
DESCRIPTION:
LAST-MODIFIED:20260413T112338
LOCATION:
SUMMARY:Pastor Dave at clergy conference in Quincy
URL;VALUE=URI:https://www.knoxvilleumc.org/events/pastor-dave-at-clergy-con
 ference-in-quincy/2026-04-23
END:VEVENT
END:VCALENDAR
