BEGIN:VCALENDAR
VERSION:2.0
PRODID:icalendar-ruby
CALSCALE:GREGORIAN
METHOD:PUBLISH
BEGIN:VEVENT
DTSTAMP:20260421T182212Z
UID:151-499487@knoxvilleunited.tithelysetup2.com
DTSTART:20261007T220000Z
DTEND:20261007T230000Z
CLASS:PUBLIC
CREATED:20260421T124844
DESCRIPTION:
LAST-MODIFIED:20260421T124844
LOCATION:
SUMMARY:Prayer Meeting
URL;VALUE=URI:https://www.knoxvilleumc.org/events/prayer-meeting--151/2026-
 10-07
END:VEVENT
END:VCALENDAR
