BEGIN:VCALENDAR
VERSION:2.0
PRODID:icalendar-ruby
CALSCALE:GREGORIAN
METHOD:PUBLISH
BEGIN:VEVENT
DTSTAMP:20260421T195012Z
UID:151-499488@knoxvilleunited.tithelysetup2.com
DTSTART:20261014T220000Z
DTEND:20261014T230000Z
CLASS:PUBLIC
CREATED:20260421T124844
DESCRIPTION:
LAST-MODIFIED:20260421T124844
LOCATION:
SUMMARY:Prayer Meeting
URL;VALUE=URI:https://www.knoxvilleumc.org/events/prayer-meeting--151/2026-
 10-14
END:VEVENT
END:VCALENDAR
