BEGIN:VCALENDAR
VERSION:2.0
PRODID:icalendar-ruby
CALSCALE:GREGORIAN
METHOD:PUBLISH
BEGIN:VEVENT
DTSTAMP:20260421T211929Z
UID:151-500056@knoxvilleunited.tithelysetup2.com
DTSTART:20261021T220000Z
DTEND:20261021T230000Z
CLASS:PUBLIC
CREATED:20260421T152427
DESCRIPTION:
LAST-MODIFIED:20260421T152427
LOCATION:
SUMMARY:Prayer Meeting
URL;VALUE=URI:https://www.knoxvilleumc.org/events/prayer-meeting--151/2026-
 10-21
END:VEVENT
END:VCALENDAR
