BEGIN:VCALENDAR
VERSION:2.0
PRODID:icalendar-ruby
CALSCALE:GREGORIAN
METHOD:PUBLISH
BEGIN:VEVENT
DTSTAMP:20260422T032600Z
UID:151-501195@knoxvilleunited.tithelysetup2.com
DTSTART:20261118T230000Z
DTEND:20261119T000000Z
CLASS:PUBLIC
CREATED:20260421T204125
DESCRIPTION:
LAST-MODIFIED:20260421T204125
LOCATION:
SUMMARY:Prayer Meeting
URL;VALUE=URI:https://www.knoxvilleumc.org/events/prayer-meeting--151/2026-
 11-18
END:VEVENT
END:VCALENDAR
