BEGIN:VCALENDAR
VERSION:2.0
PRODID:icalendar-ruby
CALSCALE:GREGORIAN
METHOD:PUBLISH
BEGIN:VEVENT
DTSTAMP:20260422T122130Z
UID:151-501201@knoxvilleunited.tithelysetup2.com
DTSTART:20261230T230000Z
DTEND:20261231T000000Z
CLASS:PUBLIC
CREATED:20260421T204125
DESCRIPTION:
LAST-MODIFIED:20260421T204125
LOCATION:
SUMMARY:Prayer Meeting
URL;VALUE=URI:https://www.knoxvilleumc.org/events/prayer-meeting--151/2026-
 12-30
END:VEVENT
END:VCALENDAR
