BEGIN:VCALENDAR
VERSION:2.0
PRODID:icalendar-ruby
CALSCALE:GREGORIAN
METHOD:PUBLISH
BEGIN:VEVENT
DTSTAMP:20260422T150639Z
UID:151-501771@knoxvilleunited.tithelysetup2.com
DTSTART:20270113T230000Z
DTEND:20270114T000000Z
CLASS:PUBLIC
CREATED:20260422T075024
DESCRIPTION:
LAST-MODIFIED:20260422T075024
LOCATION:
SUMMARY:Prayer Meeting
URL;VALUE=URI:https://www.knoxvilleumc.org/events/prayer-meeting--151/2027-
 01-13
END:VEVENT
END:VCALENDAR
